BEGIN:VCALENDAR
VERSION:2.0
PRODID:-//Angelsportverein Hirschbachquelle Zeilhard 1973 e.V. - ECPv6.15.20//NONSGML v1.0//EN
CALSCALE:GREGORIAN
METHOD:PUBLISH
X-WR-CALNAME:Angelsportverein Hirschbachquelle Zeilhard 1973 e.V.
X-ORIGINAL-URL:https://asv-zeilhard.de
X-WR-CALDESC:Veranstaltungen für Angelsportverein Hirschbachquelle Zeilhard 1973 e.V.
REFRESH-INTERVAL;VALUE=DURATION:PT1H
X-Robots-Tag:noindex
X-PUBLISHED-TTL:PT1H
BEGIN:VTIMEZONE
TZID:Europe/Berlin
BEGIN:DAYLIGHT
TZOFFSETFROM:+0100
TZOFFSETTO:+0200
TZNAME:CEST
DTSTART:20230326T010000
END:DAYLIGHT
BEGIN:STANDARD
TZOFFSETFROM:+0200
TZOFFSETTO:+0100
TZNAME:CET
DTSTART:20231029T010000
END:STANDARD
BEGIN:DAYLIGHT
TZOFFSETFROM:+0100
TZOFFSETTO:+0200
TZNAME:CEST
DTSTART:20240331T010000
END:DAYLIGHT
BEGIN:STANDARD
TZOFFSETFROM:+0200
TZOFFSETTO:+0100
TZNAME:CET
DTSTART:20241027T010000
END:STANDARD
BEGIN:DAYLIGHT
TZOFFSETFROM:+0100
TZOFFSETTO:+0200
TZNAME:CEST
DTSTART:20250330T010000
END:DAYLIGHT
BEGIN:STANDARD
TZOFFSETFROM:+0200
TZOFFSETTO:+0100
TZNAME:CET
DTSTART:20251026T010000
END:STANDARD
END:VTIMEZONE
BEGIN:VEVENT
DTSTART;TZID=Europe/Berlin:20241130T160000
DTEND;TZID=Europe/Berlin:20241130T160000
DTSTAMP:20260419T150408
CREATED:20241124T215710Z
LAST-MODIFIED:20241124T215710Z
UID:805-1732982400-1732982400@asv-zeilhard.de
SUMMARY:Winterzauber an der Freiwilligen Feuerwehr Georgenhausen & Zeilhard
DESCRIPTION:Liebe Mitglieder\,\nam 30. November findet ab 16:00 Uhr der Winterzauber an der Freiwilligen Feuerwehr Georgenhausen & Zeilhard statt. Wir selbst sind mit einem kleinen Stand vertreten und verkaufen Fischbrötchen. Des Weiteren werden Waffeln\, Kochkäsdöner\, Bratwurst (auch vegan) sowie Glühwein und Kinderpunsch angeboten.
URL:https://asv-zeilhard.de/event/winterzauber-an-der-freiwilligen-feuerwehr-georgenhausen-zeilhard/
LOCATION:Feuerwehrhaus Georgenhausen\, Dörnbachstr. 21\, Reinheim\, 64354
END:VEVENT
END:VCALENDAR