BEGIN:VCALENDAR
VERSION:2.0
PRODID:-//Angelsportverein Hirschbachquelle Zeilhard 1973 e.V. - ECPv6.15.20//NONSGML v1.0//EN
CALSCALE:GREGORIAN
METHOD:PUBLISH
X-ORIGINAL-URL:https://asv-zeilhard.de
X-WR-CALDESC:Veranstaltungen für Angelsportverein Hirschbachquelle Zeilhard 1973 e.V.
REFRESH-INTERVAL;VALUE=DURATION:PT1H
X-Robots-Tag:noindex
X-PUBLISHED-TTL:PT1H
BEGIN:VTIMEZONE
TZID:Europe/Berlin
BEGIN:DAYLIGHT
TZOFFSETFROM:+0100
TZOFFSETTO:+0200
TZNAME:CEST
DTSTART:20250330T010000
END:DAYLIGHT
BEGIN:STANDARD
TZOFFSETFROM:+0200
TZOFFSETTO:+0100
TZNAME:CET
DTSTART:20251026T010000
END:STANDARD
BEGIN:DAYLIGHT
TZOFFSETFROM:+0100
TZOFFSETTO:+0200
TZNAME:CEST
DTSTART:20260329T010000
END:DAYLIGHT
BEGIN:STANDARD
TZOFFSETFROM:+0200
TZOFFSETTO:+0100
TZNAME:CET
DTSTART:20261025T010000
END:STANDARD
BEGIN:DAYLIGHT
TZOFFSETFROM:+0100
TZOFFSETTO:+0200
TZNAME:CEST
DTSTART:20270328T010000
END:DAYLIGHT
BEGIN:STANDARD
TZOFFSETFROM:+0200
TZOFFSETTO:+0100
TZNAME:CET
DTSTART:20271031T010000
END:STANDARD
END:VTIMEZONE
BEGIN:VEVENT
DTSTART;TZID=Europe/Berlin:20260927T070000
DTEND;TZID=Europe/Berlin:20260927T070000
DTSTAMP:20260422T024319
CREATED:20260114T101905Z
LAST-MODIFIED:20260114T101919Z
UID:939-1790492400-1790492400@asv-zeilhard.de
SUMMARY:Königsangeln II
DESCRIPTION:
URL:https://asv-zeilhard.de/event/koenigsangeln-ii-2/
LOCATION:Rückhaltebecken\, Deutschland
CATEGORIES:Gemeinschaftsangeln
END:VEVENT
END:VCALENDAR